BEGIN:VCALENDAR
VERSION:2.0
PRODID:-//Research Rockstar Training &amp; Staffing - ECPv6.15.20//NONSGML v1.0//EN
CALSCALE:GREGORIAN
METHOD:PUBLISH
X-WR-CALNAME:Research Rockstar Training &amp; Staffing
X-ORIGINAL-URL:https://www.researchrockstar.com
X-WR-CALDESC:Events for Research Rockstar Training &amp; Staffing
REFRESH-INTERVAL;VALUE=DURATION:PT1H
X-Robots-Tag:noindex
X-PUBLISHED-TTL:PT1H
BEGIN:VTIMEZONE
TZID:America/New_York
BEGIN:DAYLIGHT
TZOFFSETFROM:-0500
TZOFFSETTO:-0400
TZNAME:EDT
DTSTART:20250309T070000
END:DAYLIGHT
BEGIN:STANDARD
TZOFFSETFROM:-0400
TZOFFSETTO:-0500
TZNAME:EST
DTSTART:20251102T060000
END:STANDARD
BEGIN:DAYLIGHT
TZOFFSETFROM:-0500
TZOFFSETTO:-0400
TZNAME:EDT
DTSTART:20260308T070000
END:DAYLIGHT
BEGIN:STANDARD
TZOFFSETFROM:-0400
TZOFFSETTO:-0500
TZNAME:EST
DTSTART:20261101T060000
END:STANDARD
BEGIN:DAYLIGHT
TZOFFSETFROM:-0500
TZOFFSETTO:-0400
TZNAME:EDT
DTSTART:20270314T070000
END:DAYLIGHT
BEGIN:STANDARD
TZOFFSETFROM:-0400
TZOFFSETTO:-0500
TZNAME:EST
DTSTART:20271107T060000
END:STANDARD
END:VTIMEZONE
BEGIN:VEVENT
DTSTART;TZID=America/New_York:20260423T150000
DTEND;TZID=America/New_York:20260423T160000
DTSTAMP:20260423T104710
CREATED:20260122T174231Z
LAST-MODIFIED:20260219T211643Z
UID:10000654-1776956400-1776960000@www.researchrockstar.com
SUMMARY:Live Event: Mixed-Methods at Scale—Qual + Quant Hybrid Designs
DESCRIPTION:Sign-up for this event is required. Sign Up Here. \nFormat: Application. \nLevel: Any—Suitable for all levels.  \nTopic: Mixed-methods research at scale requires intentional integration of qualitative and quantitative approaches to strengthen survey design and interpretation. This session will illustrate how qualitative inputs—such as in-depth interviews\, online communities\, and social media listening—can inform questionnaire development\, segmentation\, and interpretation of quantitative findings. Attendees will see how hybrid designs improve validity\, context\, and decision confidence when executed with clear research objectives. \nLearning Objective: Those attending will leave ready to make evidence-based methodology recommendations for mixed-methods designs that integrate qualitative insights to improve large-scale quantitative research outcomes. \nInstructor: Kathryn Korostoff & Guests
URL:https://www.researchrockstar.com/elearningsched/live-event-mixed-methods-at-scale/
END:VEVENT
BEGIN:VEVENT
DTSTART;TZID=America/New_York:20260512T130000
DTEND;TZID=America/New_York:20260512T140000
DTSTAMP:20260423T104710
CREATED:20260122T174609Z
LAST-MODIFIED:20260320T193422Z
UID:10000655-1778590800-1778594400@www.researchrockstar.com
SUMMARY:Live Event: Understanding Data Reliability & Confidence Intervals
DESCRIPTION:Sign-up for this event is required. Sign Up Here. \nFormat: Application. \nLevel: Any—Suitable for all levels.  \nTopic: Interpreting survey results requires a clear understanding of data reliability\, confidence intervals\, and variability. This session will explain what confidence intervals represent\, why they are often misunderstood\, and how variability affects the stability and precision of survey estimates. Attendees will gain practical guidance for interpreting small versus large confidence intervals when evaluating differences\, trends\, and business implications. \nLearning Objective: Upon completion\, attendees will be able to confidently analyze confidence intervals and variability in survey data to assess reliability and avoid over-interpreting unstable results. \nInstructor: Julie Worwa
URL:https://www.researchrockstar.com/elearningsched/live-event-data-reliability-and-confidence-intervals/
ORGANIZER;CN="Julie Worwa":MAILTO:instructors@researchrockstar.com
END:VEVENT
BEGIN:VEVENT
DTSTART;TZID=America/New_York:20260528T150000
DTEND;TZID=America/New_York:20260528T160000
DTSTAMP:20260423T104710
CREATED:20260122T174839Z
LAST-MODIFIED:20260320T201115Z
UID:10000656-1779980400-1779984000@www.researchrockstar.com
SUMMARY:Live Event: Mastering AI Prompts for Research Report Writing
DESCRIPTION:Sign-up for this event is required. Sign Up Coming Soon. \nFormat: Tool Demo. \nLevel: Any—Suitable for all levels.  \nTopic: How can researchers design AI prompts that support accurate\, disciplined research report writing without introducing outside data or unsupported assumptions? This session will demonstrate structured prompting techniques—including prompt chaining and reflective prompting—to improve clarity\, traceability\, and analytical rigor in AI-assisted reporting. Attendees will see how to guide AI outputs to summarize findings\, draft narratives\, and maintain methodological integrity. \nLearning Objective: After this Live Event\, researchers will be ready to confidently use advanced prompting strategies to draft research reports with AI while controlling for accuracy\, scope\, and overgeneralization. \nInstructor: Kathryn Korostoff & Guests
URL:https://www.researchrockstar.com/elearningsched/live-event-ai-prompts-for-research-report-writing/
END:VEVENT
BEGIN:VEVENT
DTSTART;TZID=America/New_York:20260609T130000
DTEND;TZID=America/New_York:20260609T140000
DTSTAMP:20260423T104710
CREATED:20260122T175806Z
LAST-MODIFIED:20260413T184253Z
UID:10000657-1781010000-1781013600@www.researchrockstar.com
SUMMARY:Live Event: Asynchronous Qualitative Methods—What's Hot Now
DESCRIPTION:Sign-up for this event is required. Sign Up Here. \nFormat: Hot Topics. \nLevel: Any—Suitable for all levels.  \nTopic: As advanced technologies continue to reshape the market research industry\, researchers are rethinking the role of qualitative research—especially the role asynchronous methods can play alongside quantitative and live approaches. This session explores the what\, why\, and how of asynchronous qualitative research\, highlighting emerging 2026 trends and the increasing importance of human judgment in delivering high-quality insights. \nLearning Objectives: By the end of this session\, attendees will be able to: \n\nIdentify key trends shaping asynchronous qualitative research and their implications for study design and execution.\nDistinguish how asynchronous methods fit within today’s qualitative research toolkit\, including when and where they are most effective.\nEvaluate how emerging trends and AI-assisted tools are reshaping the role of the researcher and the growing importance of human judgment in ensuring high-quality insights.\n\nInstructor: Marni Martens
URL:https://www.researchrockstar.com/elearningsched/live-event-asynchronous-qualitative-methods-whats-hot-now/
ORGANIZER;CN="Marni Martens":MAILTO:instructors@researchrockstar.com
END:VEVENT
BEGIN:VEVENT
DTSTART;TZID=America/New_York:20260625T150000
DTEND;TZID=America/New_York:20260625T160000
DTSTAMP:20260423T104710
CREATED:20260122T180054Z
LAST-MODIFIED:20260413T182339Z
UID:10000658-1782399600-1782403200@www.researchrockstar.com
SUMMARY:Live Event: Designing Surveys for UX Research
DESCRIPTION:Sign-up for this event is required. Sign Up Here. \nFormat: How-To. \nLevel: 2—For those with basic market research knowledge\, typically 2-5 years in the field.  \nTopic: Have you ever been asked to design a UX-focused survey when your background is rooted in traditional market research? As UX plays an increasingly prominent role in business strategy and decision-making\, the lines between UX research and market research have blurred\, and many market researchers are responsible for more UX/experience-focused work.This session explores the key principles of designing surveys for UX research\, contrasting how this differs and doesn’t in intent from traditional market research/goals\, with real-world examples and practical tips to help you successfully navigate your next UX survey request. \nLearning Objective: By the end of this session\, attendees will be able to: – Apply key principles for designing surveys that support experience-based research goals and business strategy. – Recognize where UX and market research objectives overlap—and where they diverge. – How to avoid common pitfalls when designing surveys for projects with mixed market and experience-focused objectives. \nInstructor: Marni Martens
URL:https://www.researchrockstar.com/elearningsched/live-event-designing-surveys-for-ux-research/
ORGANIZER;CN="Marni Martens":MAILTO:instructors@researchrockstar.com
END:VEVENT
END:VCALENDAR